
BEGIN:VCALENDAR
VERSION:2.0
PRODID:-//lolabrause.ch//DE\n";
METHOD:PUBLISH
BEGIN:VEVENT
UID:8859-0
ORGANIZER;CN="Lola Brause":MAILTO:kontakt@lolabrause.ch
LOCATION:Boswil
SUMMARY:1. Familienkonzert – Der alternative Karneval der Tiere
DESCRIPTION:Den «Karneval der Tiere» von Camille Saint-Saëns kennt jedes...
CLASS:PUBLIC
DTSTART:20221113T1000
DTEND:20221113T1100
END:VEVENT
END:VCALENDAR
