
BEGIN:VCALENDAR
VERSION:2.0
PRODID:-//lolabrause.ch//DE\n";
METHOD:PUBLISH
BEGIN:VEVENT
UID:10219-0
ORGANIZER;CN="Lola Brause":MAILTO:kontakt@lolabrause.ch
LOCATION:Frauenfeld
SUMMARY:1000 Schätze im Regal - Kinderführung hinter den Kulissen
DESCRIPTION:Wenn ihr denkt, ein Besuch im Museumsdepot sei langweilig,...
CLASS:PUBLIC
DTSTART:20250212T1300
DTEND:20250212T1400
END:VEVENT
END:VCALENDAR
