
BEGIN:VCALENDAR
VERSION:2.0
PRODID:-//lolabrause.ch//DE\n";
METHOD:PUBLISH
BEGIN:VEVENT
UID:10520-0
ORGANIZER;CN="Lola Brause":MAILTO:kontakt@lolabrause.ch
LOCATION:Winterthur
SUMMARY:Back to the Roots - Tradition neu erfunden
DESCRIPTION:Ein Familienkonzert zum Mitmachen und Mitsingen für Gross...
CLASS:PUBLIC
DTSTART:20260321T1400
DTEND:20260321T1515
END:VEVENT
END:VCALENDAR
