
BEGIN:VCALENDAR
VERSION:2.0
PRODID:-//lolabrause.ch//DE\n";
METHOD:PUBLISH
BEGIN:VEVENT
UID:9856-0
ORGANIZER;CN="Lola Brause":MAILTO:kontakt@lolabrause.ch
LOCATION:Aarau
SUMMARY:Bettmümpfeli für d' Ohre
DESCRIPTION:Für einen tiefen, gesunden Schlaf. Empfohlen ab 4 Jahren.In...
CLASS:PUBLIC
DTSTART:20241008T1700
DTEND:20241008T1745
END:VEVENTBEGIN:VEVENT
UID:9856-1
ORGANIZER;CN="Lola Brause":MAILTO:kontakt@lolabrause.ch
LOCATION:Aarau
SUMMARY:Bettmümpfeli für d' Ohre
DESCRIPTION:Für einen tiefen, gesunden Schlaf. Empfohlen ab 4 Jahren.In...
CLASS:PUBLIC
DTSTART:20241009T1700
DTEND:20241009T1745
END:VEVENTBEGIN:VEVENT
UID:9856-2
ORGANIZER;CN="Lola Brause":MAILTO:kontakt@lolabrause.ch
LOCATION:Aarau
SUMMARY:Bettmümpfeli für d' Ohre
DESCRIPTION:Für einen tiefen, gesunden Schlaf. Empfohlen ab 4 Jahren.In...
CLASS:PUBLIC
DTSTART:20241010T1700
DTEND:20241010T1745
END:VEVENTBEGIN:VEVENT
UID:9856-3
ORGANIZER;CN="Lola Brause":MAILTO:kontakt@lolabrause.ch
LOCATION:Aarau
SUMMARY:Bettmümpfeli für d' Ohre
DESCRIPTION:Für einen tiefen, gesunden Schlaf. Empfohlen ab 4 Jahren.In...
CLASS:PUBLIC
DTSTART:20241011T1700
DTEND:20241011T1745
END:VEVENT
END:VCALENDAR
