
BEGIN:VCALENDAR
VERSION:2.0
PRODID:-//lolabrause.ch//DE\n";
METHOD:PUBLISH
BEGIN:VEVENT
UID:10304-0
ORGANIZER;CN="Lola Brause":MAILTO:kontakt@lolabrause.ch
LOCATION:Winterthur
SUMMARY:Biokunststoff giessen - Walk-in-Atelier in den Frühlingsferien
DESCRIPTION:Mais, Algen oder Gelatine – die meisten von uns denken dabei...
CLASS:PUBLIC
DTSTART:20250501T0915
DTEND:20250501T1600
END:VEVENT
END:VCALENDAR
