
BEGIN:VCALENDAR
VERSION:2.0
PRODID:-//lolabrause.ch//DE\n";
METHOD:PUBLISH
BEGIN:VEVENT
UID:8499-0
ORGANIZER;CN="Lola Brause":MAILTO:kontakt@lolabrause.ch
LOCATION:Spreitenbach
SUMMARY:Bioprodukte- und Setzlingsmarkt Umwelt Arena Schweiz
DESCRIPTION:Ein Markt für die ganze Familie. Gemütlich schlendern,...
CLASS:PUBLIC
DTSTART:20220514T0900
DTEND:20220514T1500
END:VEVENT
END:VCALENDAR
