
BEGIN:VCALENDAR
VERSION:2.0
PRODID:-//lolabrause.ch//DE\n";
METHOD:PUBLISH
BEGIN:VEVENT
UID:8897-0
ORGANIZER;CN="Lola Brause":MAILTO:kontakt@lolabrause.ch
LOCATION:Winterthur
SUMMARY:Camelotte: «Pettersson und Findus – Das schönste Weihnachten überhaupt»
DESCRIPTION:Pettersson und Findus sind eingeschneit. Nichts ist mehr zu...
CLASS:PUBLIC
DTSTART:20221217T1500
DTEND:20221217T1630
END:VEVENTBEGIN:VEVENT
UID:8897-1
ORGANIZER;CN="Lola Brause":MAILTO:kontakt@lolabrause.ch
LOCATION:Winterthur
SUMMARY:Camelotte: «Pettersson und Findus – Das schönste Weihnachten überhaupt»
DESCRIPTION:Pettersson und Findus sind eingeschneit. Nichts ist mehr zu...
CLASS:PUBLIC
DTSTART:20221223T1500
DTEND:20221223T1630
END:VEVENTBEGIN:VEVENT
UID:8897-2
ORGANIZER;CN="Lola Brause":MAILTO:kontakt@lolabrause.ch
LOCATION:Winterthur
SUMMARY:Camelotte: «Pettersson und Findus – Das schönste Weihnachten überhaupt»
DESCRIPTION:Pettersson und Findus sind eingeschneit. Nichts ist mehr zu...
CLASS:PUBLIC
DTSTART:20221231T1500
DTEND:20221231T1630
END:VEVENT
END:VCALENDAR
