BEGIN:VCALENDAR
VERSION:2.0
PRODID:-//lolabrause.ch//DE\n";
METHOD:PUBLISH
BEGIN:VEVENT
DTSTAMP:20220717T230000
UID:4565
ORGANIZER;CN="Lola Brause":MAILTO:kontakt@lolabrause.ch
LOCATION:Horgen
SUMMARY:Chess4Kids Horgen Halb- und Ganztages Sommercamps
DESCRIPTION:18.7.-22.7.2022u.nbsp;9-12:00 Schach Anfänger u.amp;...
CLASS:PUBLIC
DTSTART:20220717T230000
DTEND:20220818T230000
END:VEVENT
END:VCALENDAR
