
BEGIN:VCALENDAR
VERSION:2.0
PRODID:-//lolabrause.ch//DE\n";
METHOD:PUBLISH
BEGIN:VEVENT
UID:4003-0
ORGANIZER;CN="Lola Brause":MAILTO:kontakt@lolabrause.ch
LOCATION:Dietikon
SUMMARY:D'WienachtsGschicht
DESCRIPTION:Die vertraute und bekannte Weihnachtsgeschichte mit Kasper...
CLASS:PUBLIC
DTSTART:20221214T1330
DTEND:20221214T1410
END:VEVENTBEGIN:VEVENT
UID:4003-1
ORGANIZER;CN="Lola Brause":MAILTO:kontakt@lolabrause.ch
LOCATION:Dietikon
SUMMARY:D'WienachtsGschicht
DESCRIPTION:Die vertraute und bekannte Weihnachtsgeschichte mit Kasper...
CLASS:PUBLIC
DTSTART:20221217T1330
DTEND:20221217T1410
END:VEVENTBEGIN:VEVENT
UID:4003-2
ORGANIZER;CN="Lola Brause":MAILTO:kontakt@lolabrause.ch
LOCATION:Dietikon
SUMMARY:D'WienachtsGschicht
DESCRIPTION:Die vertraute und bekannte Weihnachtsgeschichte mit Kasper...
CLASS:PUBLIC
DTSTART:20221218T1330
DTEND:20221218T1410
END:VEVENTBEGIN:VEVENT
UID:4003-3
ORGANIZER;CN="Lola Brause":MAILTO:kontakt@lolabrause.ch
LOCATION:Dietikon
SUMMARY:D'WienachtsGschicht
DESCRIPTION:Die vertraute und bekannte Weihnachtsgeschichte mit Kasper...
CLASS:PUBLIC
DTSTART:20221219T1330
DTEND:20221219T1410
END:VEVENTBEGIN:VEVENT
UID:4003-4
ORGANIZER;CN="Lola Brause":MAILTO:kontakt@lolabrause.ch
LOCATION:Dietikon
SUMMARY:D'WienachtsGschicht
DESCRIPTION:Die vertraute und bekannte Weihnachtsgeschichte mit Kasper...
CLASS:PUBLIC
DTSTART:20221221T1330
DTEND:20221221T1410
END:VEVENTBEGIN:VEVENT
UID:4003-5
ORGANIZER;CN="Lola Brause":MAILTO:kontakt@lolabrause.ch
LOCATION:Dietikon
SUMMARY:D'WienachtsGschicht
DESCRIPTION:Die vertraute und bekannte Weihnachtsgeschichte mit Kasper...
CLASS:PUBLIC
DTSTART:20221223T1330
DTEND:20221223T1410
END:VEVENTBEGIN:VEVENT
UID:4003-6
ORGANIZER;CN="Lola Brause":MAILTO:kontakt@lolabrause.ch
LOCATION:Dietikon
SUMMARY:D'WienachtsGschicht
DESCRIPTION:Die vertraute und bekannte Weihnachtsgeschichte mit Kasper...
CLASS:PUBLIC
DTSTART:20221224T1330
DTEND:20221224T1410
END:VEVENT
END:VCALENDAR
