
BEGIN:VCALENDAR
VERSION:2.0
PRODID:-//lolabrause.ch//DE\n";
METHOD:PUBLISH
BEGIN:VEVENT
UID:9634-0
ORGANIZER;CN="Lola Brause":MAILTO:kontakt@lolabrause.ch
LOCATION:Sissach
SUMMARY:Dampf am alten Hauenstein
DESCRIPTION:Eine spezielle Dampffahrt auf einer untypischen...
CLASS:PUBLIC
DTSTART:20240427T0945
DTEND:20240427T1025
END:VEVENTBEGIN:VEVENT
UID:9634-1
ORGANIZER;CN="Lola Brause":MAILTO:kontakt@lolabrause.ch
LOCATION:Sissach
SUMMARY:Dampf am alten Hauenstein
DESCRIPTION:Eine spezielle Dampffahrt auf einer untypischen...
CLASS:PUBLIC
DTSTART:20240428T0945
DTEND:20240428T1025
END:VEVENTBEGIN:VEVENT
UID:9634-2
ORGANIZER;CN="Lola Brause":MAILTO:kontakt@lolabrause.ch
LOCATION:Sissach
SUMMARY:Dampf am alten Hauenstein
DESCRIPTION:Eine spezielle Dampffahrt auf einer untypischen...
CLASS:PUBLIC
DTSTART:20240427T1415
DTEND:20240427T1515
END:VEVENTBEGIN:VEVENT
UID:9634-3
ORGANIZER;CN="Lola Brause":MAILTO:kontakt@lolabrause.ch
LOCATION:Sissach
SUMMARY:Dampf am alten Hauenstein
DESCRIPTION:Eine spezielle Dampffahrt auf einer untypischen...
CLASS:PUBLIC
DTSTART:20240428T1415
DTEND:20240428T1515
END:VEVENT
END:VCALENDAR
