
BEGIN:VCALENDAR
VERSION:2.0
PRODID:-//lolabrause.ch//DE\n";
METHOD:PUBLISH
BEGIN:VEVENT
UID:8527-0
ORGANIZER;CN="Lola Brause":MAILTO:kontakt@lolabrause.ch
LOCATION:Bern
SUMMARY:Die Abenteuer des Huck Finn
DESCRIPTION:Nach den Abenteuern von Tom Sawyer zeigen wir dessen...
CLASS:PUBLIC
DTSTART:20220518T1300
DTEND:20220518T1445
END:VEVENTBEGIN:VEVENT
UID:8527-1
ORGANIZER;CN="Lola Brause":MAILTO:kontakt@lolabrause.ch
LOCATION:Bern
SUMMARY:Die Abenteuer des Huck Finn
DESCRIPTION:Nach den Abenteuern von Tom Sawyer zeigen wir dessen...
CLASS:PUBLIC
DTSTART:20220521T1300
DTEND:20220521T1445
END:VEVENTBEGIN:VEVENT
UID:8527-2
ORGANIZER;CN="Lola Brause":MAILTO:kontakt@lolabrause.ch
LOCATION:Bern
SUMMARY:Die Abenteuer des Huck Finn
DESCRIPTION:Nach den Abenteuern von Tom Sawyer zeigen wir dessen...
CLASS:PUBLIC
DTSTART:20220525T1300
DTEND:20220525T1445
END:VEVENTBEGIN:VEVENT
UID:8527-3
ORGANIZER;CN="Lola Brause":MAILTO:kontakt@lolabrause.ch
LOCATION:Bern
SUMMARY:Die Abenteuer des Huck Finn
DESCRIPTION:Nach den Abenteuern von Tom Sawyer zeigen wir dessen...
CLASS:PUBLIC
DTSTART:20220528T1300
DTEND:20220528T1445
END:VEVENTBEGIN:VEVENT
UID:8527-4
ORGANIZER;CN="Lola Brause":MAILTO:kontakt@lolabrause.ch
LOCATION:Bern
SUMMARY:Die Abenteuer des Huck Finn
DESCRIPTION:Nach den Abenteuern von Tom Sawyer zeigen wir dessen...
CLASS:PUBLIC
DTSTART:20220601T1300
DTEND:20220601T1445
END:VEVENT
END:VCALENDAR
