
BEGIN:VCALENDAR
VERSION:2.0
PRODID:-//lolabrause.ch//DE\n";
METHOD:PUBLISH
BEGIN:VEVENT
UID:8999-0
ORGANIZER;CN="Lola Brause":MAILTO:kontakt@lolabrause.ch
LOCATION:Frauenfeld
SUMMARY:Die kleine Hexe
DESCRIPTION:Die Kids-Abteilung vom Kindertheater Floh zeigt „Die kleine...
CLASS:PUBLIC
DTSTART:20230305T1330
DTEND:20230305T1445
END:VEVENT
END:VCALENDAR
