
BEGIN:VCALENDAR
VERSION:2.0
PRODID:-//lolabrause.ch//DE\n";
METHOD:PUBLISH
BEGIN:VEVENT
UID:8256-0
ORGANIZER;CN="Lola Brause":MAILTO:kontakt@lolabrause.ch
LOCATION:Bern
SUMMARY:DREI NÜSSE FÜR ASCHENBRÖDEL
DESCRIPTION:Der Tschechisch-deutsche Märchenfilm aus den 1970er-Jahren...
CLASS:PUBLIC
DTSTART:20221224T1300
DTEND:20221224T1430
END:VEVENTBEGIN:VEVENT
UID:8256-1
ORGANIZER;CN="Lola Brause":MAILTO:kontakt@lolabrause.ch
LOCATION:Bern
SUMMARY:DREI NÜSSE FÜR ASCHENBRÖDEL
DESCRIPTION:Der Tschechisch-deutsche Märchenfilm aus den 1970er-Jahren...
CLASS:PUBLIC
DTSTART:20221226T1300
DTEND:20221226T1430
END:VEVENT
END:VCALENDAR
