
BEGIN:VCALENDAR
VERSION:2.0
PRODID:-//lolabrause.ch//DE\n";
METHOD:PUBLISH
BEGIN:VEVENT
UID:10746-0
ORGANIZER;CN="Lola Brause":MAILTO:kontakt@lolabrause.ch
LOCATION:St. Gallen
SUMMARY:Drop-in-Basteln: Bunte Lamas
DESCRIPTION:Gemeinsames Gestalten für Familien mit Kindern ab 4...
CLASS:PUBLIC
DTSTART:20260426T1300
DTEND:20260426T1530
END:VEVENT
END:VCALENDAR
