
BEGIN:VCALENDAR
VERSION:2.0
PRODID:-//lolabrause.ch//DE\n";
METHOD:PUBLISH
BEGIN:VEVENT
UID:10672-0
ORGANIZER;CN="Lola Brause":MAILTO:kontakt@lolabrause.ch
LOCATION:Winterthur
SUMMARY:E VERHÄXETI VOLLMONDNACHT
DESCRIPTION:FIGURENTHEATER WINTERTHURab 5 JahrenWenn die Neugierde einen...
CLASS:PUBLIC
DTSTART:20260215T1330
DTEND:20260215T1430
END:VEVENTBEGIN:VEVENT
UID:10672-1
ORGANIZER;CN="Lola Brause":MAILTO:kontakt@lolabrause.ch
LOCATION:Winterthur
SUMMARY:E VERHÄXETI VOLLMONDNACHT
DESCRIPTION:FIGURENTHEATER WINTERTHURab 5 JahrenWenn die Neugierde einen...
CLASS:PUBLIC
DTSTART:20260218T1330
DTEND:20260218T1430
END:VEVENTBEGIN:VEVENT
UID:10672-2
ORGANIZER;CN="Lola Brause":MAILTO:kontakt@lolabrause.ch
LOCATION:Winterthur
SUMMARY:E VERHÄXETI VOLLMONDNACHT
DESCRIPTION:FIGURENTHEATER WINTERTHURab 5 JahrenWenn die Neugierde einen...
CLASS:PUBLIC
DTSTART:20260225T1330
DTEND:20260225T1430
END:VEVENTBEGIN:VEVENT
UID:10672-3
ORGANIZER;CN="Lola Brause":MAILTO:kontakt@lolabrause.ch
LOCATION:Winterthur
SUMMARY:E VERHÄXETI VOLLMONDNACHT
DESCRIPTION:FIGURENTHEATER WINTERTHURab 5 JahrenWenn die Neugierde einen...
CLASS:PUBLIC
DTSTART:20260301T1330
DTEND:20260301T1430
END:VEVENT
END:VCALENDAR
