
BEGIN:VCALENDAR
VERSION:2.0
PRODID:-//lolabrause.ch//DE\n";
METHOD:PUBLISH
BEGIN:VEVENT
UID:10309-0
ORGANIZER;CN="Lola Brause":MAILTO:kontakt@lolabrause.ch
LOCATION:Zürich
SUMMARY:Eintritt frei am 18. Mai. Internationaler Museumstag
DESCRIPTION:Am Internationalen Museumstag präsentieren wir euch duftende...
CLASS:PUBLIC
DTSTART:20250518T0900
DTEND:20250518T1600
END:VEVENT
END:VCALENDAR
