
BEGIN:VCALENDAR
VERSION:2.0
PRODID:-//lolabrause.ch//DE\n";
METHOD:PUBLISH
BEGIN:VEVENT
UID:10165-0
ORGANIZER;CN="Lola Brause":MAILTO:kontakt@lolabrause.ch
LOCATION:Weinfelden
SUMMARY:Engel&amp;Magorrian - Was macht ds Wätter?
DESCRIPTION:Eine spielerische, sehr visuelle Show mit vielen ObjektenWir...
CLASS:PUBLIC
DTSTART:20250525T0915
DTEND:20250525T1015
END:VEVENT
END:VCALENDAR
