
BEGIN:VCALENDAR
VERSION:2.0
PRODID:-//lolabrause.ch//DE\n";
METHOD:PUBLISH
BEGIN:VEVENT
UID:8748-0
ORGANIZER;CN="Lola Brause":MAILTO:kontakt@lolabrause.ch
LOCATION:Zürich
SUMMARY:FERMENTIEREN FÜR DIE FAMILIE - Masterclass
DESCRIPTION:Standort: Hotelfachschule ZürichTicket: CHF 20.00Sprache:...
CLASS:PUBLIC
DTSTART:20220917T0830
DTEND:20220917T0930
END:VEVENTBEGIN:VEVENT
UID:8748-1
ORGANIZER;CN="Lola Brause":MAILTO:kontakt@lolabrause.ch
LOCATION:Zürich
SUMMARY:FERMENTIEREN FÜR DIE FAMILIE - Masterclass
DESCRIPTION:Standort: Hotelfachschule ZürichTicket: CHF 20.00Sprache:...
CLASS:PUBLIC
DTSTART:20220917T1000
DTEND:20220917T1100
END:VEVENT
END:VCALENDAR
