
BEGIN:VCALENDAR
VERSION:2.0
PRODID:-//lolabrause.ch//DE\n";
METHOD:PUBLISH
BEGIN:VEVENT
UID:10182-0
ORGANIZER;CN="Lola Brause":MAILTO:kontakt@lolabrause.ch
LOCATION:Zürich
SUMMARY:Film und Schauspiel Sportferien 2025 Woche 2 in Zürich
DESCRIPTION:Ab 10 bis 14 Jahre. Anfänger*innen und Fortgeschrittene.In...
CLASS:PUBLIC
DTSTART:20250217T0900
DTEND:20250217T1500
END:VEVENTBEGIN:VEVENT
UID:10182-1
ORGANIZER;CN="Lola Brause":MAILTO:kontakt@lolabrause.ch
LOCATION:Zürich
SUMMARY:Film und Schauspiel Sportferien 2025 Woche 2 in Zürich
DESCRIPTION:Ab 10 bis 14 Jahre. Anfänger*innen und Fortgeschrittene.In...
CLASS:PUBLIC
DTSTART:20250218T0900
DTEND:20250218T1500
END:VEVENTBEGIN:VEVENT
UID:10182-2
ORGANIZER;CN="Lola Brause":MAILTO:kontakt@lolabrause.ch
LOCATION:Zürich
SUMMARY:Film und Schauspiel Sportferien 2025 Woche 2 in Zürich
DESCRIPTION:Ab 10 bis 14 Jahre. Anfänger*innen und Fortgeschrittene.In...
CLASS:PUBLIC
DTSTART:20250219T0900
DTEND:20250219T1500
END:VEVENTBEGIN:VEVENT
UID:10182-3
ORGANIZER;CN="Lola Brause":MAILTO:kontakt@lolabrause.ch
LOCATION:Zürich
SUMMARY:Film und Schauspiel Sportferien 2025 Woche 2 in Zürich
DESCRIPTION:Ab 10 bis 14 Jahre. Anfänger*innen und Fortgeschrittene.In...
CLASS:PUBLIC
DTSTART:20250220T0900
DTEND:20250220T1500
END:VEVENTBEGIN:VEVENT
UID:10182-4
ORGANIZER;CN="Lola Brause":MAILTO:kontakt@lolabrause.ch
LOCATION:Zürich
SUMMARY:Film und Schauspiel Sportferien 2025 Woche 2 in Zürich
DESCRIPTION:Ab 10 bis 14 Jahre. Anfänger*innen und Fortgeschrittene.In...
CLASS:PUBLIC
DTSTART:20250221T0900
DTEND:20250221T1500
END:VEVENT
END:VCALENDAR
