
BEGIN:VCALENDAR
VERSION:2.0
PRODID:-//lolabrause.ch//DE\n";
METHOD:PUBLISH
BEGIN:VEVENT
UID:8927-0
ORGANIZER;CN="Lola Brause":MAILTO:kontakt@lolabrause.ch
LOCATION:Winterthur
SUMMARY:Frühlingstöpfern
DESCRIPTION:Der Frühling kommt und darauf wollen wir vorbereitet sein....
CLASS:PUBLIC
DTSTART:20260429T0800
DTEND:20260429T1100
END:VEVENT
END:VCALENDAR
