
BEGIN:VCALENDAR
VERSION:2.0
PRODID:-//lolabrause.ch//DE\n";
METHOD:PUBLISH
BEGIN:VEVENT
UID:10237-0
ORGANIZER;CN="Lola Brause":MAILTO:kontakt@lolabrause.ch
LOCATION:St. Gallen
SUMMARY:Geheime Werkstätten und antike Zimmer: Wir schnuppern in jede Museumsecke
DESCRIPTION:MuseumsMäuse: Geheime Werkstätten und antike Zimmer: Wir...
CLASS:PUBLIC
DTSTART:20250219T1400
DTEND:20250219T1445
END:VEVENT
END:VCALENDAR
