
BEGIN:VCALENDAR
VERSION:2.0
PRODID:-//lolabrause.ch//DE\n";
METHOD:PUBLISH
BEGIN:VEVENT
UID:8727-0
ORGANIZER;CN="Lola Brause":MAILTO:kontakt@lolabrause.ch
LOCATION:Zug
SUMMARY:Gespielt wird immer
DESCRIPTION:Womit spielten die Kinder im Pfahlbaudorf? Wie vertrieben...
CLASS:PUBLIC
DTSTART:20220911T1300
DTEND:20220911T1600
END:VEVENT
END:VCALENDAR
