
BEGIN:VCALENDAR
VERSION:2.0
PRODID:-//lolabrause.ch//DE\n";
METHOD:PUBLISH
BEGIN:VEVENT
UID:10682-0
ORGANIZER;CN="Lola Brause":MAILTO:kontakt@lolabrause.ch
LOCATION:Lenzburg
SUMMARY:Gut, und dir? - Ein Rundgang für Kinder von 5 bis 10 Jahren
DESCRIPTION:Wie geht es dir?Manchmal könnten wir platzen vor Glück,...
CLASS:PUBLIC
DTSTART:20260121T1300
DTEND:20260121T1430
END:VEVENTBEGIN:VEVENT
UID:10682-1
ORGANIZER;CN="Lola Brause":MAILTO:kontakt@lolabrause.ch
LOCATION:Lenzburg
SUMMARY:Gut, und dir? - Ein Rundgang für Kinder von 5 bis 10 Jahren
DESCRIPTION:Wie geht es dir?Manchmal könnten wir platzen vor Glück,...
CLASS:PUBLIC
DTSTART:20260218T1300
DTEND:20260218T1430
END:VEVENTBEGIN:VEVENT
UID:10682-2
ORGANIZER;CN="Lola Brause":MAILTO:kontakt@lolabrause.ch
LOCATION:Lenzburg
SUMMARY:Gut, und dir? - Ein Rundgang für Kinder von 5 bis 10 Jahren
DESCRIPTION:Wie geht es dir?Manchmal könnten wir platzen vor Glück,...
CLASS:PUBLIC
DTSTART:20260325T1300
DTEND:20260325T1430
END:VEVENTBEGIN:VEVENT
UID:10682-3
ORGANIZER;CN="Lola Brause":MAILTO:kontakt@lolabrause.ch
LOCATION:Lenzburg
SUMMARY:Gut, und dir? - Ein Rundgang für Kinder von 5 bis 10 Jahren
DESCRIPTION:Wie geht es dir?Manchmal könnten wir platzen vor Glück,...
CLASS:PUBLIC
DTSTART:20260408T1300
DTEND:20260408T1430
END:VEVENTBEGIN:VEVENT
UID:10682-4
ORGANIZER;CN="Lola Brause":MAILTO:kontakt@lolabrause.ch
LOCATION:Lenzburg
SUMMARY:Gut, und dir? - Ein Rundgang für Kinder von 5 bis 10 Jahren
DESCRIPTION:Wie geht es dir?Manchmal könnten wir platzen vor Glück,...
CLASS:PUBLIC
DTSTART:20260520T1300
DTEND:20260520T1430
END:VEVENT
END:VCALENDAR
