
BEGIN:VCALENDAR
VERSION:2.0
PRODID:-//lolabrause.ch//DE\n";
METHOD:PUBLISH
BEGIN:VEVENT
UID:9832-0
ORGANIZER;CN="Lola Brause":MAILTO:kontakt@lolabrause.ch
LOCATION:Winterthur
SUMMARY:Hans im Glück
DESCRIPTION:FIDIBUS PRÄSENTIERT: HANS IM GLÜCKEine quirlig-musikalische...
CLASS:PUBLIC
DTSTART:20241109T1000
DTEND:20241109T1130
END:VEVENT
END:VCALENDAR
