
BEGIN:VCALENDAR
VERSION:2.0
PRODID:-//lolabrause.ch//DE\n";
METHOD:PUBLISH
BEGIN:VEVENT
UID:8546-0
ORGANIZER;CN="Lola Brause":MAILTO:kontakt@lolabrause.ch
LOCATION:Stein am Rhein
SUMMARY:HörTour - Geschichten die ins Ohr gehen
DESCRIPTION:Die HörTour ist ein Rätsel-Stadtrundgang. Mit Kopfhörern und...
CLASS:PUBLIC
DTSTART:20220811T1230
DTEND:20220811T1645
END:VEVENTBEGIN:VEVENT
UID:8546-1
ORGANIZER;CN="Lola Brause":MAILTO:kontakt@lolabrause.ch
LOCATION:Stein am Rhein
SUMMARY:HörTour - Geschichten die ins Ohr gehen
DESCRIPTION:Die HörTour ist ein Rätsel-Stadtrundgang. Mit Kopfhörern und...
CLASS:PUBLIC
DTSTART:20220812T1230
DTEND:20220812T1645
END:VEVENTBEGIN:VEVENT
UID:8546-2
ORGANIZER;CN="Lola Brause":MAILTO:kontakt@lolabrause.ch
LOCATION:Stein am Rhein
SUMMARY:HörTour - Geschichten die ins Ohr gehen
DESCRIPTION:Die HörTour ist ein Rätsel-Stadtrundgang. Mit Kopfhörern und...
CLASS:PUBLIC
DTSTART:20220813T1230
DTEND:20220813T1645
END:VEVENTBEGIN:VEVENT
UID:8546-3
ORGANIZER;CN="Lola Brause":MAILTO:kontakt@lolabrause.ch
LOCATION:Stein am Rhein
SUMMARY:HörTour - Geschichten die ins Ohr gehen
DESCRIPTION:Die HörTour ist ein Rätsel-Stadtrundgang. Mit Kopfhörern und...
CLASS:PUBLIC
DTSTART:20220814T1230
DTEND:20220814T1645
END:VEVENTBEGIN:VEVENT
UID:8546-4
ORGANIZER;CN="Lola Brause":MAILTO:kontakt@lolabrause.ch
LOCATION:Stein am Rhein
SUMMARY:HörTour - Geschichten die ins Ohr gehen
DESCRIPTION:Die HörTour ist ein Rätsel-Stadtrundgang. Mit Kopfhörern und...
CLASS:PUBLIC
DTSTART:20220816T1230
DTEND:20220816T1645
END:VEVENTBEGIN:VEVENT
UID:8546-5
ORGANIZER;CN="Lola Brause":MAILTO:kontakt@lolabrause.ch
LOCATION:Stein am Rhein
SUMMARY:HörTour - Geschichten die ins Ohr gehen
DESCRIPTION:Die HörTour ist ein Rätsel-Stadtrundgang. Mit Kopfhörern und...
CLASS:PUBLIC
DTSTART:20220817T1230
DTEND:20220817T1645
END:VEVENTBEGIN:VEVENT
UID:8546-6
ORGANIZER;CN="Lola Brause":MAILTO:kontakt@lolabrause.ch
LOCATION:Stein am Rhein
SUMMARY:HörTour - Geschichten die ins Ohr gehen
DESCRIPTION:Die HörTour ist ein Rätsel-Stadtrundgang. Mit Kopfhörern und...
CLASS:PUBLIC
DTSTART:20220818T1230
DTEND:20220818T1645
END:VEVENTBEGIN:VEVENT
UID:8546-7
ORGANIZER;CN="Lola Brause":MAILTO:kontakt@lolabrause.ch
LOCATION:Stein am Rhein
SUMMARY:HörTour - Geschichten die ins Ohr gehen
DESCRIPTION:Die HörTour ist ein Rätsel-Stadtrundgang. Mit Kopfhörern und...
CLASS:PUBLIC
DTSTART:20220819T1230
DTEND:20220819T1645
END:VEVENTBEGIN:VEVENT
UID:8546-8
ORGANIZER;CN="Lola Brause":MAILTO:kontakt@lolabrause.ch
LOCATION:Stein am Rhein
SUMMARY:HörTour - Geschichten die ins Ohr gehen
DESCRIPTION:Die HörTour ist ein Rätsel-Stadtrundgang. Mit Kopfhörern und...
CLASS:PUBLIC
DTSTART:20220820T1230
DTEND:20220820T1645
END:VEVENT
END:VCALENDAR
