
BEGIN:VCALENDAR
VERSION:2.0
PRODID:-//lolabrause.ch//DE\n";
METHOD:PUBLISH
BEGIN:VEVENT
UID:9148-0
ORGANIZER;CN="Lola Brause":MAILTO:kontakt@lolabrause.ch
LOCATION:Davos Platz
SUMMARY:Kasper und das kleine Schlossgespenst
DESCRIPTION:Alle Schätze des Grafen sind verschwunden. Da erinnert sich...
CLASS:PUBLIC
DTSTART:20230730T1600
DTEND:20230730T1700
END:VEVENT
END:VCALENDAR
