
BEGIN:VCALENDAR
VERSION:2.0
PRODID:-//lolabrause.ch//DE\n";
METHOD:PUBLISH
BEGIN:VEVENT
UID:9373-0
ORGANIZER;CN="Lola Brause":MAILTO:kontakt@lolabrause.ch
LOCATION:Zürich
SUMMARY:Kinder-Workshop: Pimp it up
DESCRIPTION:Für Kinder ab 8 Jahren ohne Begleitung.Körper gibt es in...
CLASS:PUBLIC
DTSTART:20240114T1300
DTEND:20240114T1530
END:VEVENT
END:VCALENDAR
