BEGIN:VCALENDAR
VERSION:2.0
PRODID:-//lolabrause.ch//DE\n";
METHOD:PUBLISH
BEGIN:VEVENT
DTSTAMP:20230213T080000
UID:8588
ORGANIZER;CN="Lola Brause":MAILTO:kontakt@lolabrause.ch
LOCATION:Winterthur
SUMMARY:Logiscool LEGO SPIKE Adventures Robotik-Kurs (Kurs oder Ganztagesbetreuung)
DESCRIPTION:Der Kurs konzentriert sich auf MINT-basiertes Lernen und...
CLASS:PUBLIC
DTSTART:20230213T080000
DTEND:20230217T113000
END:VEVENT
END:VCALENDAR
