
BEGIN:VCALENDAR
VERSION:2.0
PRODID:-//lolabrause.ch//DE\n";
METHOD:PUBLISH
BEGIN:VEVENT
UID:8526-0
ORGANIZER;CN="Lola Brause":MAILTO:kontakt@lolabrause.ch
LOCATION:Bern
SUMMARY:Madagascar
DESCRIPTION:«Ein Löwe, ein Zebra, eine Giraffe und ein Nilpferd führen...
CLASS:PUBLIC
DTSTART:20220430T1300
DTEND:20220430T1430
END:VEVENTBEGIN:VEVENT
UID:8526-1
ORGANIZER;CN="Lola Brause":MAILTO:kontakt@lolabrause.ch
LOCATION:Bern
SUMMARY:Madagascar
DESCRIPTION:«Ein Löwe, ein Zebra, eine Giraffe und ein Nilpferd führen...
CLASS:PUBLIC
DTSTART:20220504T1300
DTEND:20220504T1430
END:VEVENTBEGIN:VEVENT
UID:8526-2
ORGANIZER;CN="Lola Brause":MAILTO:kontakt@lolabrause.ch
LOCATION:Bern
SUMMARY:Madagascar
DESCRIPTION:«Ein Löwe, ein Zebra, eine Giraffe und ein Nilpferd führen...
CLASS:PUBLIC
DTSTART:20220507T1300
DTEND:20220507T1430
END:VEVENTBEGIN:VEVENT
UID:8526-3
ORGANIZER;CN="Lola Brause":MAILTO:kontakt@lolabrause.ch
LOCATION:Bern
SUMMARY:Madagascar
DESCRIPTION:«Ein Löwe, ein Zebra, eine Giraffe und ein Nilpferd führen...
CLASS:PUBLIC
DTSTART:20220511T1300
DTEND:20220511T1430
END:VEVENTBEGIN:VEVENT
UID:8526-4
ORGANIZER;CN="Lola Brause":MAILTO:kontakt@lolabrause.ch
LOCATION:Bern
SUMMARY:Madagascar
DESCRIPTION:«Ein Löwe, ein Zebra, eine Giraffe und ein Nilpferd führen...
CLASS:PUBLIC
DTSTART:20220514T1300
DTEND:20220514T1430
END:VEVENT
END:VCALENDAR
