
BEGIN:VCALENDAR
VERSION:2.0
PRODID:-//lolabrause.ch//DE\n";
METHOD:PUBLISH
BEGIN:VEVENT
UID:9903-0
ORGANIZER;CN="Lola Brause":MAILTO:kontakt@lolabrause.ch
LOCATION:Zürich
SUMMARY:Märlitheater - Pinocchio
DESCRIPTION:Dialekt-Märli für die ganze Familie.Das neue, zauberhafte...
CLASS:PUBLIC
DTSTART:20241110T1000
DTEND:20241110T1100
END:VEVENTBEGIN:VEVENT
UID:9903-1
ORGANIZER;CN="Lola Brause":MAILTO:kontakt@lolabrause.ch
LOCATION:Zürich
SUMMARY:Märlitheater - Pinocchio
DESCRIPTION:Dialekt-Märli für die ganze Familie.Das neue, zauberhafte...
CLASS:PUBLIC
DTSTART:20241117T1000
DTEND:20241117T1100
END:VEVENTBEGIN:VEVENT
UID:9903-2
ORGANIZER;CN="Lola Brause":MAILTO:kontakt@lolabrause.ch
LOCATION:Zürich
SUMMARY:Märlitheater - Pinocchio
DESCRIPTION:Dialekt-Märli für die ganze Familie.Das neue, zauberhafte...
CLASS:PUBLIC
DTSTART:20241123T1000
DTEND:20241123T1100
END:VEVENTBEGIN:VEVENT
UID:9903-3
ORGANIZER;CN="Lola Brause":MAILTO:kontakt@lolabrause.ch
LOCATION:Zürich
SUMMARY:Märlitheater - Pinocchio
DESCRIPTION:Dialekt-Märli für die ganze Familie.Das neue, zauberhafte...
CLASS:PUBLIC
DTSTART:20241130T1000
DTEND:20241130T1100
END:VEVENTBEGIN:VEVENT
UID:9903-4
ORGANIZER;CN="Lola Brause":MAILTO:kontakt@lolabrause.ch
LOCATION:Zürich
SUMMARY:Märlitheater - Pinocchio
DESCRIPTION:Dialekt-Märli für die ganze Familie.Das neue, zauberhafte...
CLASS:PUBLIC
DTSTART:20241201T1000
DTEND:20241201T1100
END:VEVENTBEGIN:VEVENT
UID:9903-5
ORGANIZER;CN="Lola Brause":MAILTO:kontakt@lolabrause.ch
LOCATION:Zürich
SUMMARY:Märlitheater - Pinocchio
DESCRIPTION:Dialekt-Märli für die ganze Familie.Das neue, zauberhafte...
CLASS:PUBLIC
DTSTART:20241208T1000
DTEND:20241208T1100
END:VEVENTBEGIN:VEVENT
UID:9903-6
ORGANIZER;CN="Lola Brause":MAILTO:kontakt@lolabrause.ch
LOCATION:Zürich
SUMMARY:Märlitheater - Pinocchio
DESCRIPTION:Dialekt-Märli für die ganze Familie.Das neue, zauberhafte...
CLASS:PUBLIC
DTSTART:20241221T1000
DTEND:20241221T1100
END:VEVENTBEGIN:VEVENT
UID:9903-7
ORGANIZER;CN="Lola Brause":MAILTO:kontakt@lolabrause.ch
LOCATION:Zürich
SUMMARY:Märlitheater - Pinocchio
DESCRIPTION:Dialekt-Märli für die ganze Familie.Das neue, zauberhafte...
CLASS:PUBLIC
DTSTART:20241222T1000
DTEND:20241222T1100
END:VEVENTBEGIN:VEVENT
UID:9903-8
ORGANIZER;CN="Lola Brause":MAILTO:kontakt@lolabrause.ch
LOCATION:Zürich
SUMMARY:Märlitheater - Pinocchio
DESCRIPTION:Dialekt-Märli für die ganze Familie.Das neue, zauberhafte...
CLASS:PUBLIC
DTSTART:20250105T1000
DTEND:20250105T1100
END:VEVENTBEGIN:VEVENT
UID:9903-9
ORGANIZER;CN="Lola Brause":MAILTO:kontakt@lolabrause.ch
LOCATION:Zürich
SUMMARY:Märlitheater - Pinocchio
DESCRIPTION:Dialekt-Märli für die ganze Familie.Das neue, zauberhafte...
CLASS:PUBLIC
DTSTART:20241120T1300
DTEND:20241120T1400
END:VEVENTBEGIN:VEVENT
UID:9903-10
ORGANIZER;CN="Lola Brause":MAILTO:kontakt@lolabrause.ch
LOCATION:Zürich
SUMMARY:Märlitheater - Pinocchio
DESCRIPTION:Dialekt-Märli für die ganze Familie.Das neue, zauberhafte...
CLASS:PUBLIC
DTSTART:20241127T1300
DTEND:20241127T1400
END:VEVENTBEGIN:VEVENT
UID:9903-11
ORGANIZER;CN="Lola Brause":MAILTO:kontakt@lolabrause.ch
LOCATION:Zürich
SUMMARY:Märlitheater - Pinocchio
DESCRIPTION:Dialekt-Märli für die ganze Familie.Das neue, zauberhafte...
CLASS:PUBLIC
DTSTART:20241204T1300
DTEND:20241204T1400
END:VEVENTBEGIN:VEVENT
UID:9903-12
ORGANIZER;CN="Lola Brause":MAILTO:kontakt@lolabrause.ch
LOCATION:Zürich
SUMMARY:Märlitheater - Pinocchio
DESCRIPTION:Dialekt-Märli für die ganze Familie.Das neue, zauberhafte...
CLASS:PUBLIC
DTSTART:20241218T1300
DTEND:20241218T1400
END:VEVENTBEGIN:VEVENT
UID:9903-13
ORGANIZER;CN="Lola Brause":MAILTO:kontakt@lolabrause.ch
LOCATION:Zürich
SUMMARY:Märlitheater - Pinocchio
DESCRIPTION:Dialekt-Märli für die ganze Familie.Das neue, zauberhafte...
CLASS:PUBLIC
DTSTART:20250108T1300
DTEND:20250108T1400
END:VEVENT
END:VCALENDAR
