
BEGIN:VCALENDAR
VERSION:2.0
PRODID:-//lolabrause.ch//DE\n";
METHOD:PUBLISH
BEGIN:VEVENT
UID:10745-0
ORGANIZER;CN="Lola Brause":MAILTO:kontakt@lolabrause.ch
LOCATION:Winterthur
SUMMARY:Mission Mini-Wildnis - Baue deine eigene Pflanzeninsel!
DESCRIPTION:Zweitägiger Frühlingsferien-Workshop Di., 21. 04. u.amp;...
CLASS:PUBLIC
DTSTART:20260421T0915
DTEND:20260421T1500
END:VEVENTBEGIN:VEVENT
UID:10745-1
ORGANIZER;CN="Lola Brause":MAILTO:kontakt@lolabrause.ch
LOCATION:Winterthur
SUMMARY:Mission Mini-Wildnis - Baue deine eigene Pflanzeninsel!
DESCRIPTION:Zweitägiger Frühlingsferien-Workshop Di., 21. 04. u.amp;...
CLASS:PUBLIC
DTSTART:20260422T0915
DTEND:20260422T1500
END:VEVENT
END:VCALENDAR
