
BEGIN:VCALENDAR
VERSION:2.0
PRODID:-//lolabrause.ch//DE\n";
METHOD:PUBLISH
BEGIN:VEVENT
UID:10662-0
ORGANIZER;CN="Lola Brause":MAILTO:kontakt@lolabrause.ch
LOCATION:Wattwil
SUMMARY:Mittelalter Lenz Spektakel
DESCRIPTION:Ein farbenfroher Event für Jung und Alt: Kinderbespassung,...
CLASS:PUBLIC
DTSTART:20260320T1600
DTEND:20260320T2200
END:VEVENTBEGIN:VEVENT
UID:10662-1
ORGANIZER;CN="Lola Brause":MAILTO:kontakt@lolabrause.ch
LOCATION:Wattwil
SUMMARY:Mittelalter Lenz Spektakel
DESCRIPTION:Ein farbenfroher Event für Jung und Alt: Kinderbespassung,...
CLASS:PUBLIC
DTSTART:20260321T0900
DTEND:20260321T2200
END:VEVENTBEGIN:VEVENT
UID:10662-2
ORGANIZER;CN="Lola Brause":MAILTO:kontakt@lolabrause.ch
LOCATION:Wattwil
SUMMARY:Mittelalter Lenz Spektakel
DESCRIPTION:Ein farbenfroher Event für Jung und Alt: Kinderbespassung,...
CLASS:PUBLIC
DTSTART:20260322T0900
DTEND:20260322T1600
END:VEVENT
END:VCALENDAR
