
BEGIN:VCALENDAR
VERSION:2.0
PRODID:-//lolabrause.ch//DE\n";
METHOD:PUBLISH
BEGIN:VEVENT
UID:9689-0
ORGANIZER;CN="Lola Brause":MAILTO:kontakt@lolabrause.ch
LOCATION:Basel
SUMMARY:Nachtabenteuer
DESCRIPTION:Es raschelt im Gebüsch, ein buschiger Schwanz verschwindet...
CLASS:PUBLIC
DTSTART:20240509T1200
DTEND:20240508T2300
END:VEVENTBEGIN:VEVENT
UID:9689-1
ORGANIZER;CN="Lola Brause":MAILTO:kontakt@lolabrause.ch
LOCATION:Basel
SUMMARY:Nachtabenteuer
DESCRIPTION:Es raschelt im Gebüsch, ein buschiger Schwanz verschwindet...
CLASS:PUBLIC
DTSTART:20240509T2300
DTEND:20240510T1200
END:VEVENT
END:VCALENDAR
