
BEGIN:VCALENDAR
VERSION:2.0
PRODID:-//lolabrause.ch//DE\n";
METHOD:PUBLISH
BEGIN:VEVENT
UID:8877-0
ORGANIZER;CN="Lola Brause":MAILTO:kontakt@lolabrause.ch
LOCATION:Zürich
SUMMARY:Nachts alleine im Museum
DESCRIPTION:Wenn am Abend die letzten Gäste das Museum verlassen, werden...
CLASS:PUBLIC
DTSTART:20221123T1730
DTEND:20221123T1830
END:VEVENTBEGIN:VEVENT
UID:8877-1
ORGANIZER;CN="Lola Brause":MAILTO:kontakt@lolabrause.ch
LOCATION:Zürich
SUMMARY:Nachts alleine im Museum
DESCRIPTION:Wenn am Abend die letzten Gäste das Museum verlassen, werden...
CLASS:PUBLIC
DTSTART:20221125T1730
DTEND:20221125T1830
END:VEVENTBEGIN:VEVENT
UID:8877-2
ORGANIZER;CN="Lola Brause":MAILTO:kontakt@lolabrause.ch
LOCATION:Zürich
SUMMARY:Nachts alleine im Museum
DESCRIPTION:Wenn am Abend die letzten Gäste das Museum verlassen, werden...
CLASS:PUBLIC
DTSTART:20221130T1730
DTEND:20221130T1830
END:VEVENTBEGIN:VEVENT
UID:8877-3
ORGANIZER;CN="Lola Brause":MAILTO:kontakt@lolabrause.ch
LOCATION:Zürich
SUMMARY:Nachts alleine im Museum
DESCRIPTION:Wenn am Abend die letzten Gäste das Museum verlassen, werden...
CLASS:PUBLIC
DTSTART:20221207T1730
DTEND:20221207T1830
END:VEVENTBEGIN:VEVENT
UID:8877-4
ORGANIZER;CN="Lola Brause":MAILTO:kontakt@lolabrause.ch
LOCATION:Zürich
SUMMARY:Nachts alleine im Museum
DESCRIPTION:Wenn am Abend die letzten Gäste das Museum verlassen, werden...
CLASS:PUBLIC
DTSTART:20221209T1730
DTEND:20221209T1830
END:VEVENTBEGIN:VEVENT
UID:8877-5
ORGANIZER;CN="Lola Brause":MAILTO:kontakt@lolabrause.ch
LOCATION:Zürich
SUMMARY:Nachts alleine im Museum
DESCRIPTION:Wenn am Abend die letzten Gäste das Museum verlassen, werden...
CLASS:PUBLIC
DTSTART:20221214T1730
DTEND:20221214T1830
END:VEVENTBEGIN:VEVENT
UID:8877-6
ORGANIZER;CN="Lola Brause":MAILTO:kontakt@lolabrause.ch
LOCATION:Zürich
SUMMARY:Nachts alleine im Museum
DESCRIPTION:Wenn am Abend die letzten Gäste das Museum verlassen, werden...
CLASS:PUBLIC
DTSTART:20221221T1730
DTEND:20221221T1830
END:VEVENT
END:VCALENDAR
