
BEGIN:VCALENDAR
VERSION:2.0
PRODID:-//lolabrause.ch//DE\n";
METHOD:PUBLISH
BEGIN:VEVENT
UID:10391-0
ORGANIZER;CN="Lola Brause":MAILTO:kontakt@lolabrause.ch
LOCATION:Winterthur
SUMMARY:Pippi feiert Geburtstag
DESCRIPTION:Das kunterbunte Musical für Klein und GrossKnallige Lieder,...
CLASS:PUBLIC
DTSTART:20251022T1300
DTEND:20251022T1410
END:VEVENTBEGIN:VEVENT
UID:10391-1
ORGANIZER;CN="Lola Brause":MAILTO:kontakt@lolabrause.ch
LOCATION:Winterthur
SUMMARY:Pippi feiert Geburtstag
DESCRIPTION:Das kunterbunte Musical für Klein und GrossKnallige Lieder,...
CLASS:PUBLIC
DTSTART:20251025T1300
DTEND:20251025T1410
END:VEVENTBEGIN:VEVENT
UID:10391-2
ORGANIZER;CN="Lola Brause":MAILTO:kontakt@lolabrause.ch
LOCATION:Winterthur
SUMMARY:Pippi feiert Geburtstag
DESCRIPTION:Das kunterbunte Musical für Klein und GrossKnallige Lieder,...
CLASS:PUBLIC
DTSTART:20251123T1000
DTEND:20251123T1110
END:VEVENTBEGIN:VEVENT
UID:10391-3
ORGANIZER;CN="Lola Brause":MAILTO:kontakt@lolabrause.ch
LOCATION:Winterthur
SUMMARY:Pippi feiert Geburtstag
DESCRIPTION:Das kunterbunte Musical für Klein und GrossKnallige Lieder,...
CLASS:PUBLIC
DTSTART:20251214T1000
DTEND:20251214T1110
END:VEVENTBEGIN:VEVENT
UID:10391-4
ORGANIZER;CN="Lola Brause":MAILTO:kontakt@lolabrause.ch
LOCATION:Winterthur
SUMMARY:Pippi feiert Geburtstag
DESCRIPTION:Das kunterbunte Musical für Klein und GrossKnallige Lieder,...
CLASS:PUBLIC
DTSTART:20251214T1300
DTEND:20251214T1410
END:VEVENTBEGIN:VEVENT
UID:10391-5
ORGANIZER;CN="Lola Brause":MAILTO:kontakt@lolabrause.ch
LOCATION:Winterthur
SUMMARY:Pippi feiert Geburtstag
DESCRIPTION:Das kunterbunte Musical für Klein und GrossKnallige Lieder,...
CLASS:PUBLIC
DTSTART:20251228T1000
DTEND:20251228T1110
END:VEVENTBEGIN:VEVENT
UID:10391-6
ORGANIZER;CN="Lola Brause":MAILTO:kontakt@lolabrause.ch
LOCATION:Winterthur
SUMMARY:Pippi feiert Geburtstag
DESCRIPTION:Das kunterbunte Musical für Klein und GrossKnallige Lieder,...
CLASS:PUBLIC
DTSTART:20251228T1300
DTEND:20251228T1410
END:VEVENTBEGIN:VEVENT
UID:10391-7
ORGANIZER;CN="Lola Brause":MAILTO:kontakt@lolabrause.ch
LOCATION:Winterthur
SUMMARY:Pippi feiert Geburtstag
DESCRIPTION:Das kunterbunte Musical für Klein und GrossKnallige Lieder,...
CLASS:PUBLIC
DTSTART:20251229T1000
DTEND:20251229T1110
END:VEVENTBEGIN:VEVENT
UID:10391-8
ORGANIZER;CN="Lola Brause":MAILTO:kontakt@lolabrause.ch
LOCATION:Winterthur
SUMMARY:Pippi feiert Geburtstag
DESCRIPTION:Das kunterbunte Musical für Klein und GrossKnallige Lieder,...
CLASS:PUBLIC
DTSTART:20251229T1300
DTEND:20251229T1410
END:VEVENTBEGIN:VEVENT
UID:10391-9
ORGANIZER;CN="Lola Brause":MAILTO:kontakt@lolabrause.ch
LOCATION:Winterthur
SUMMARY:Pippi feiert Geburtstag
DESCRIPTION:Das kunterbunte Musical für Klein und GrossKnallige Lieder,...
CLASS:PUBLIC
DTSTART:20260121T1300
DTEND:20260121T1410
END:VEVENTBEGIN:VEVENT
UID:10391-10
ORGANIZER;CN="Lola Brause":MAILTO:kontakt@lolabrause.ch
LOCATION:Winterthur
SUMMARY:Pippi feiert Geburtstag
DESCRIPTION:Das kunterbunte Musical für Klein und GrossKnallige Lieder,...
CLASS:PUBLIC
DTSTART:20260412T1000
DTEND:20260412T1110
END:VEVENTBEGIN:VEVENT
UID:10391-11
ORGANIZER;CN="Lola Brause":MAILTO:kontakt@lolabrause.ch
LOCATION:Winterthur
SUMMARY:Pippi feiert Geburtstag
DESCRIPTION:Das kunterbunte Musical für Klein und GrossKnallige Lieder,...
CLASS:PUBLIC
DTSTART:20260412T1300
DTEND:20260412T1410
END:VEVENTBEGIN:VEVENT
UID:10391-12
ORGANIZER;CN="Lola Brause":MAILTO:kontakt@lolabrause.ch
LOCATION:Winterthur
SUMMARY:Pippi feiert Geburtstag
DESCRIPTION:Das kunterbunte Musical für Klein und GrossKnallige Lieder,...
CLASS:PUBLIC
DTSTART:20260503T1000
DTEND:20260503T1110
END:VEVENTBEGIN:VEVENT
UID:10391-13
ORGANIZER;CN="Lola Brause":MAILTO:kontakt@lolabrause.ch
LOCATION:Winterthur
SUMMARY:Pippi feiert Geburtstag
DESCRIPTION:Das kunterbunte Musical für Klein und GrossKnallige Lieder,...
CLASS:PUBLIC
DTSTART:20260503T1300
DTEND:20260503T1410
END:VEVENT
END:VCALENDAR
