
BEGIN:VCALENDAR
VERSION:2.0
PRODID:-//lolabrause.ch//DE\n";
METHOD:PUBLISH
BEGIN:VEVENT
UID:10739-0
ORGANIZER;CN="Lola Brause":MAILTO:kontakt@lolabrause.ch
LOCATION:Sihlwald
SUMMARY:Saisonbeginn im Besucherzentrum Sihwald
DESCRIPTION:Der Frühling ist da! Das Besucherzentrum mit der beliebten...
CLASS:PUBLIC
DTSTART:20260329T1200
DTEND:20260329T1600
END:VEVENT
END:VCALENDAR
