
BEGIN:VCALENDAR
VERSION:2.0
PRODID:-//lolabrause.ch//DE\n";
METHOD:PUBLISH
BEGIN:VEVENT
UID:10189-0
ORGANIZER;CN="Lola Brause":MAILTO:kontakt@lolabrause.ch
LOCATION:Zürich
SUMMARY:Schauspiel Workshop Januar 2025
DESCRIPTION:Für 9 – 15 Jahre. Anfänger*innen und Fortgeschrittene.Lerne...
CLASS:PUBLIC
DTSTART:20250125T0900
DTEND:20250125T1500
END:VEVENTBEGIN:VEVENT
UID:10189-1
ORGANIZER;CN="Lola Brause":MAILTO:kontakt@lolabrause.ch
LOCATION:Zürich
SUMMARY:Schauspiel Workshop Januar 2025
DESCRIPTION:Für 9 – 15 Jahre. Anfänger*innen und Fortgeschrittene.Lerne...
CLASS:PUBLIC
DTSTART:20250126T1000
DTEND:20250126T1500
END:VEVENT
END:VCALENDAR
