
BEGIN:VCALENDAR
VERSION:2.0
PRODID:-//lolabrause.ch//DE\n";
METHOD:PUBLISH
BEGIN:VEVENT
UID:9333-0
ORGANIZER;CN="Lola Brause":MAILTO:kontakt@lolabrause.ch
LOCATION:Zürich
SUMMARY:Schnitzeljagd am Soil Food Market
DESCRIPTION:Unser jährlicher Soil Food u.amp; Fermentista Market steht...
CLASS:PUBLIC
DTSTART:20230916T0900
DTEND:20230916T1730
END:VEVENT
END:VCALENDAR
