BEGIN:VCALENDAR
VERSION:2.0
PRODID:-//lolabrause.ch//DE\n";
METHOD:PUBLISH
BEGIN:VEVENT
DTSTAMP:20240501T090000
UID:9792
ORGANIZER;CN="Lola Brause":MAILTO:kontakt@lolabrause.ch
LOCATION:Spreitenbach
SUMMARY:Sonderausstellung &quot;Honigbienen und ihre wilden Verwandten&quot;
DESCRIPTION:Wissen Sie, wie schwer eine Biene ist? 10 Gramm? 1 Gramm?...
CLASS:PUBLIC
DTSTART:20240501T090000
DTEND:20241027T160000
END:VEVENT
END:VCALENDAR
