
BEGIN:VCALENDAR
VERSION:2.0
PRODID:-//lolabrause.ch//DE\n";
METHOD:PUBLISH
BEGIN:VEVENT
UID:10675-0
ORGANIZER;CN="Lola Brause":MAILTO:kontakt@lolabrause.ch
LOCATION:Zürich
SUMMARY:SonntagsAtelier
DESCRIPTION:Das Format u.quot;SonntagsAtelieru.quot; richtet sich an...
CLASS:PUBLIC
DTSTART:20260208T1200
DTEND:20260208T1500
END:VEVENTBEGIN:VEVENT
UID:10675-1
ORGANIZER;CN="Lola Brause":MAILTO:kontakt@lolabrause.ch
LOCATION:Zürich
SUMMARY:SonntagsAtelier
DESCRIPTION:Das Format u.quot;SonntagsAtelieru.quot; richtet sich an...
CLASS:PUBLIC
DTSTART:20260301T1200
DTEND:20260301T1500
END:VEVENTBEGIN:VEVENT
UID:10675-2
ORGANIZER;CN="Lola Brause":MAILTO:kontakt@lolabrause.ch
LOCATION:Zürich
SUMMARY:SonntagsAtelier
DESCRIPTION:Das Format u.quot;SonntagsAtelieru.quot; richtet sich an...
CLASS:PUBLIC
DTSTART:20260308T1200
DTEND:20260308T1500
END:VEVENTBEGIN:VEVENT
UID:10675-3
ORGANIZER;CN="Lola Brause":MAILTO:kontakt@lolabrause.ch
LOCATION:Zürich
SUMMARY:SonntagsAtelier
DESCRIPTION:Das Format u.quot;SonntagsAtelieru.quot; richtet sich an...
CLASS:PUBLIC
DTSTART:20260315T1200
DTEND:20260315T1500
END:VEVENTBEGIN:VEVENT
UID:10675-4
ORGANIZER;CN="Lola Brause":MAILTO:kontakt@lolabrause.ch
LOCATION:Zürich
SUMMARY:SonntagsAtelier
DESCRIPTION:Das Format u.quot;SonntagsAtelieru.quot; richtet sich an...
CLASS:PUBLIC
DTSTART:20260322T1200
DTEND:20260322T1500
END:VEVENTBEGIN:VEVENT
UID:10675-5
ORGANIZER;CN="Lola Brause":MAILTO:kontakt@lolabrause.ch
LOCATION:Zürich
SUMMARY:SonntagsAtelier
DESCRIPTION:Das Format u.quot;SonntagsAtelieru.quot; richtet sich an...
CLASS:PUBLIC
DTSTART:20260329T1200
DTEND:20260329T1500
END:VEVENTBEGIN:VEVENT
UID:10675-6
ORGANIZER;CN="Lola Brause":MAILTO:kontakt@lolabrause.ch
LOCATION:Zürich
SUMMARY:SonntagsAtelier
DESCRIPTION:Das Format u.quot;SonntagsAtelieru.quot; richtet sich an...
CLASS:PUBLIC
DTSTART:20260419T1200
DTEND:20260419T1500
END:VEVENTBEGIN:VEVENT
UID:10675-7
ORGANIZER;CN="Lola Brause":MAILTO:kontakt@lolabrause.ch
LOCATION:Zürich
SUMMARY:SonntagsAtelier
DESCRIPTION:Das Format u.quot;SonntagsAtelieru.quot; richtet sich an...
CLASS:PUBLIC
DTSTART:20260503T1200
DTEND:20260503T1500
END:VEVENT
END:VCALENDAR
