
BEGIN:VCALENDAR
VERSION:2.0
PRODID:-//lolabrause.ch//DE\n";
METHOD:PUBLISH
BEGIN:VEVENT
UID:10705-0
ORGANIZER;CN="Lola Brause":MAILTO:kontakt@lolabrause.ch
LOCATION:Zürich
SUMMARY:Sport Mental Camps für Kids
DESCRIPTION:Eine Ferienwoche die alles vereint, was Kinder in der...
CLASS:PUBLIC
DTSTART:20260713T0800
DTEND:20260713T1530
END:VEVENTBEGIN:VEVENT
UID:10705-1
ORGANIZER;CN="Lola Brause":MAILTO:kontakt@lolabrause.ch
LOCATION:Zürich
SUMMARY:Sport Mental Camps für Kids
DESCRIPTION:Eine Ferienwoche die alles vereint, was Kinder in der...
CLASS:PUBLIC
DTSTART:20260714T0800
DTEND:20260714T1530
END:VEVENTBEGIN:VEVENT
UID:10705-2
ORGANIZER;CN="Lola Brause":MAILTO:kontakt@lolabrause.ch
LOCATION:Zürich
SUMMARY:Sport Mental Camps für Kids
DESCRIPTION:Eine Ferienwoche die alles vereint, was Kinder in der...
CLASS:PUBLIC
DTSTART:20260715T0800
DTEND:20260715T1530
END:VEVENTBEGIN:VEVENT
UID:10705-3
ORGANIZER;CN="Lola Brause":MAILTO:kontakt@lolabrause.ch
LOCATION:Zürich
SUMMARY:Sport Mental Camps für Kids
DESCRIPTION:Eine Ferienwoche die alles vereint, was Kinder in der...
CLASS:PUBLIC
DTSTART:20260716T0800
DTEND:20260716T1530
END:VEVENTBEGIN:VEVENT
UID:10705-4
ORGANIZER;CN="Lola Brause":MAILTO:kontakt@lolabrause.ch
LOCATION:Zürich
SUMMARY:Sport Mental Camps für Kids
DESCRIPTION:Eine Ferienwoche die alles vereint, was Kinder in der...
CLASS:PUBLIC
DTSTART:20260717T0800
DTEND:20260717T1530
END:VEVENT
END:VCALENDAR
