
BEGIN:VCALENDAR
VERSION:2.0
PRODID:-//lolabrause.ch//DE\n";
METHOD:PUBLISH
BEGIN:VEVENT
UID:10706-0
ORGANIZER;CN="Lola Brause":MAILTO:kontakt@lolabrause.ch
LOCATION:Zürich
SUMMARY:Sport Mental Camps für Kids
DESCRIPTION:Du suchst ein cooles Camp indem du durch viel Bewegung und...
CLASS:PUBLIC
DTSTART:20260720T0800
DTEND:20260720T1530
END:VEVENTBEGIN:VEVENT
UID:10706-1
ORGANIZER;CN="Lola Brause":MAILTO:kontakt@lolabrause.ch
LOCATION:Zürich
SUMMARY:Sport Mental Camps für Kids
DESCRIPTION:Du suchst ein cooles Camp indem du durch viel Bewegung und...
CLASS:PUBLIC
DTSTART:20260721T0800
DTEND:20260721T1530
END:VEVENTBEGIN:VEVENT
UID:10706-2
ORGANIZER;CN="Lola Brause":MAILTO:kontakt@lolabrause.ch
LOCATION:Zürich
SUMMARY:Sport Mental Camps für Kids
DESCRIPTION:Du suchst ein cooles Camp indem du durch viel Bewegung und...
CLASS:PUBLIC
DTSTART:20260722T0800
DTEND:20260722T1530
END:VEVENTBEGIN:VEVENT
UID:10706-3
ORGANIZER;CN="Lola Brause":MAILTO:kontakt@lolabrause.ch
LOCATION:Zürich
SUMMARY:Sport Mental Camps für Kids
DESCRIPTION:Du suchst ein cooles Camp indem du durch viel Bewegung und...
CLASS:PUBLIC
DTSTART:20260723T0800
DTEND:20260723T1530
END:VEVENTBEGIN:VEVENT
UID:10706-4
ORGANIZER;CN="Lola Brause":MAILTO:kontakt@lolabrause.ch
LOCATION:Zürich
SUMMARY:Sport Mental Camps für Kids
DESCRIPTION:Du suchst ein cooles Camp indem du durch viel Bewegung und...
CLASS:PUBLIC
DTSTART:20260724T0800
DTEND:20260724T1530
END:VEVENT
END:VCALENDAR
