
BEGIN:VCALENDAR
VERSION:2.0
PRODID:-//lolabrause.ch//DE\n";
METHOD:PUBLISH
BEGIN:VEVENT
UID:8620-0
ORGANIZER;CN="Lola Brause":MAILTO:kontakt@lolabrause.ch
LOCATION:Zürich
SUMMARY:Stage School Zürich &amp; Movement Education Project - Pinocchio
DESCRIPTION:Tanztheater für Klein und Gross.Das Märchen von Pinocchio,...
CLASS:PUBLIC
DTSTART:20220709T1400
DTEND:20220709T1500
END:VEVENTBEGIN:VEVENT
UID:8620-1
ORGANIZER;CN="Lola Brause":MAILTO:kontakt@lolabrause.ch
LOCATION:Zürich
SUMMARY:Stage School Zürich &amp; Movement Education Project - Pinocchio
DESCRIPTION:Tanztheater für Klein und Gross.Das Märchen von Pinocchio,...
CLASS:PUBLIC
DTSTART:20220709T1700
DTEND:20220709T1800
END:VEVENT
END:VCALENDAR
