
BEGIN:VCALENDAR
VERSION:2.0
PRODID:-//lolabrause.ch//DE\n";
METHOD:PUBLISH
BEGIN:VEVENT
UID:9377-0
ORGANIZER;CN="Lola Brause":MAILTO:kontakt@lolabrause.ch
LOCATION:Oberhofen
SUMMARY:VERKLEIDUNGSATELIER
DESCRIPTION:Das Verkleidungsatelier lädt ein... Erkundet das Schloss...
CLASS:PUBLIC
DTSTART:20231022T1015
DTEND:20231022T1500
END:VEVENT
END:VCALENDAR
