
BEGIN:VCALENDAR
VERSION:2.0
PRODID:-//lolabrause.ch//DE\n";
METHOD:PUBLISH
BEGIN:VEVENT
UID:9698-0
ORGANIZER;CN="Lola Brause":MAILTO:kontakt@lolabrause.ch
LOCATION:St. Gallen
SUMMARY:Von einem alten Schlitten auf dem Estrich und andere spannende Dinge
DESCRIPTION:MuseumsMäuse: Entdeckungsreise für Kinder ab 4 JahrenDie...
CLASS:PUBLIC
DTSTART:20240515T1400
DTEND:20240515T1445
END:VEVENT
END:VCALENDAR
